BEGIN:VCALENDAR
VERSION:2.0
PRODID:-//Pittsburgh - ECPv6.15.20//NONSGML v1.0//EN
CALSCALE:GREGORIAN
METHOD:PUBLISH
X-WR-CALNAME:Pittsburgh
X-ORIGINAL-URL:https://pittsburgh.cisvusa.org
X-WR-CALDESC:Events for Pittsburgh
REFRESH-INTERVAL;VALUE=DURATION:PT1H
X-Robots-Tag:noindex
X-PUBLISHED-TTL:PT1H
BEGIN:VTIMEZONE
TZID:America/New_York
BEGIN:DAYLIGHT
TZOFFSETFROM:-0500
TZOFFSETTO:-0400
TZNAME:EDT
DTSTART:20190310T070000
END:DAYLIGHT
BEGIN:STANDARD
TZOFFSETFROM:-0400
TZOFFSETTO:-0500
TZNAME:EST
DTSTART:20191103T060000
END:STANDARD
BEGIN:DAYLIGHT
TZOFFSETFROM:-0500
TZOFFSETTO:-0400
TZNAME:EDT
DTSTART:20200308T070000
END:DAYLIGHT
BEGIN:STANDARD
TZOFFSETFROM:-0400
TZOFFSETTO:-0500
TZNAME:EST
DTSTART:20201101T060000
END:STANDARD
BEGIN:DAYLIGHT
TZOFFSETFROM:-0500
TZOFFSETTO:-0400
TZNAME:EDT
DTSTART:20210314T070000
END:DAYLIGHT
BEGIN:STANDARD
TZOFFSETFROM:-0400
TZOFFSETTO:-0500
TZNAME:EST
DTSTART:20211107T060000
END:STANDARD
END:VTIMEZONE
BEGIN:VEVENT
DTSTART;TZID=America/New_York:20200104T130000
DTEND;TZID=America/New_York:20200105T100000
DTSTAMP:20260422T025429
CREATED:20190910T190440Z
LAST-MODIFIED:20191205T212031Z
UID:10000039-1578142800-1578218400@pittsburgh.cisvusa.org
SUMMARY:Winter Overnight
DESCRIPTION:Join us for a CISV overnight experience with the Pittsburgh chapter. Applicants for our Junior Counselor positions will be conducting activities that are typical of an international CISV program. Other applicants to our 2020 programs will be interviewed as part of our selection process.  All children ages 11-18 are welcome to participate even if they are not applying for a program.  \nAdult chaperones and leader applicants are free. \nREGISTER HERE
URL:https://pittsburgh.cisvusa.org/event/peace-day-overnight/
LOCATION:YMCA Camp Kon-O-Kwee Spencer\, 126 Nagel Road\, Fombell\, PA\, 16123\, United States
ATTACH;FMTTYPE=image/jpeg:https://pittsburgh.cisvusa.org/wp-content/uploads/sites/20/2018/09/IMG_6188-e1537283833838-scaled.jpg
ORGANIZER;CN="CISV Pittsburgh":MAILTO:pittsburgh@cisvusa.org
GEO:40.8136684;-80.2188887
X-APPLE-STRUCTURED-LOCATION;VALUE=URI;X-ADDRESS=YMCA Camp Kon-O-Kwee Spencer 126 Nagel Road Fombell PA 16123 United States;X-APPLE-RADIUS=500;X-TITLE=126 Nagel Road:geo:-80.2188887,40.8136684
END:VEVENT
END:VCALENDAR