BEGIN:VCALENDAR
VERSION:2.0
PRODID:-//Pittsburgh - ECPv6.15.20//NONSGML v1.0//EN
CALSCALE:GREGORIAN
METHOD:PUBLISH
X-WR-CALNAME:Pittsburgh
X-ORIGINAL-URL:https://pittsburgh.cisvusa.org
X-WR-CALDESC:Events for Pittsburgh
REFRESH-INTERVAL;VALUE=DURATION:PT1H
X-Robots-Tag:noindex
X-PUBLISHED-TTL:PT1H
BEGIN:VTIMEZONE
TZID:America/New_York
BEGIN:DAYLIGHT
TZOFFSETFROM:-0500
TZOFFSETTO:-0400
TZNAME:EDT
DTSTART:20210314T070000
END:DAYLIGHT
BEGIN:STANDARD
TZOFFSETFROM:-0400
TZOFFSETTO:-0500
TZNAME:EST
DTSTART:20211107T060000
END:STANDARD
BEGIN:DAYLIGHT
TZOFFSETFROM:-0500
TZOFFSETTO:-0400
TZNAME:EDT
DTSTART:20220313T070000
END:DAYLIGHT
BEGIN:STANDARD
TZOFFSETFROM:-0400
TZOFFSETTO:-0500
TZNAME:EST
DTSTART:20221106T060000
END:STANDARD
BEGIN:DAYLIGHT
TZOFFSETFROM:-0500
TZOFFSETTO:-0400
TZNAME:EDT
DTSTART:20230312T070000
END:DAYLIGHT
BEGIN:STANDARD
TZOFFSETFROM:-0400
TZOFFSETTO:-0500
TZNAME:EST
DTSTART:20231105T060000
END:STANDARD
END:VTIMEZONE
BEGIN:VEVENT
DTSTART;TZID=America/New_York:20220327T130000
DTEND;TZID=America/New_York:20220327T143000
DTSTAMP:20260421T165541
CREATED:20220322T144500Z
LAST-MODIFIED:20220328T141609Z
UID:10000001-1648386000-1648391400@pittsburgh.cisvusa.org
SUMMARY:JB Service Project with Hugh Lane Wellness Foundation for LGBTQ+ Community
DESCRIPTION:Join the CISV Pittsburgh Junior Branch at Repair the World in East Liberty for a service-learning opportunity with Hugh Lane Wellness Foundation. \nHugh Lane Wellness Foundation works to improve the health of the LGBTQ+ and HIV communities in Pittsburgh by offering a variety of services\, as well as expert training for organizations to improve their capacity to serve LGBTQ+ clients and staff. \nWe will be packing supplies for LGBTQ+ people in need. \nREGISTER here \nBring the following donations: \n\nHousehold Items: laundry detergent\, dish soap\, paper towels\, toilet paper\nFood: dry pasta\, beans\, pasta sauce\, nuts\, non-perishable dried fruits\, sweets\nPersonal Care Items: shampoo\, conditioner\, body wash\, shaving cream\, esp. products for curly/coiled/highly-textured hair\n\nRepair the World mobilizes Jews and their communities to take action to pursue a just world\, igniting a lifelong commitment to service.
URL:https://pittsburgh.cisvusa.org/event/jb-service-project-with-hugh-lane-wellness-foundation-for-lgbtq-community/
LOCATION:Repair the World\, 6140 Station Street\, Pittsburgh\, PA\, 15206\, United States
ATTACH;FMTTYPE=image/jpeg:https://pittsburgh.cisvusa.org/wp-content/uploads/sites/20/2022/03/be3f37ab-6e1d-4bb2-bee5-82bd06e10898.jpeg
END:VEVENT
END:VCALENDAR