BEGIN:VCALENDAR
VERSION:2.0
PRODID:-//Pittsburgh - ECPv6.15.20//NONSGML v1.0//EN
CALSCALE:GREGORIAN
METHOD:PUBLISH
X-WR-CALNAME:Pittsburgh
X-ORIGINAL-URL:https://pittsburgh.cisvusa.org
X-WR-CALDESC:Events for Pittsburgh
REFRESH-INTERVAL;VALUE=DURATION:PT1H
X-Robots-Tag:noindex
X-PUBLISHED-TTL:PT1H
BEGIN:VTIMEZONE
TZID:America/New_York
BEGIN:DAYLIGHT
TZOFFSETFROM:-0500
TZOFFSETTO:-0400
TZNAME:EDT
DTSTART:20180311T070000
END:DAYLIGHT
BEGIN:STANDARD
TZOFFSETFROM:-0400
TZOFFSETTO:-0500
TZNAME:EST
DTSTART:20181104T060000
END:STANDARD
BEGIN:DAYLIGHT
TZOFFSETFROM:-0500
TZOFFSETTO:-0400
TZNAME:EDT
DTSTART:20190310T070000
END:DAYLIGHT
BEGIN:STANDARD
TZOFFSETFROM:-0400
TZOFFSETTO:-0500
TZNAME:EST
DTSTART:20191103T060000
END:STANDARD
BEGIN:DAYLIGHT
TZOFFSETFROM:-0500
TZOFFSETTO:-0400
TZNAME:EDT
DTSTART:20200308T070000
END:DAYLIGHT
BEGIN:STANDARD
TZOFFSETFROM:-0400
TZOFFSETTO:-0500
TZNAME:EST
DTSTART:20201101T060000
END:STANDARD
END:VTIMEZONE
BEGIN:VEVENT
DTSTART;TZID=America/New_York:20191208T170000
DTEND;TZID=America/New_York:20191208T190000
DTSTAMP:20260420T113740
CREATED:20191002T031908Z
LAST-MODIFIED:20191026T185020Z
UID:10000050-1575824400-1575831600@pittsburgh.cisvusa.org
SUMMARY:Meet and Greet in Highland Park
DESCRIPTION:On Sunday December 8\, please join us for our (free) Meet and Greet at the home of one of our members in Highland Park. Come learn more about CISV Pittsburgh’s programs that promote peace and cross-cultural friendship. We are especially looking for kids ages 11-13 for our Village and Interchange programs. \nCome for pizza and drinks and meet our members who have participated in our international and domestic programs. We’d love to tell you all you need to know to get involved.
URL:https://pittsburgh.cisvusa.org/event/meet-and-greet-in-highland-park/
LOCATION:Private Home – Highland Park\, 1100 Winterton Street\, Pittsburgh\, Pennsylvania\, 15206
ATTACH;FMTTYPE=image/jpeg:https://pittsburgh.cisvusa.org/wp-content/uploads/sites/20/2019/10/IMG_3219.HEIC_-e1570025153459.jpg
ORGANIZER;CN="CISV Pittsburgh":MAILTO:pittsburgh@cisvusa.org
GEO:40.4730436;-79.9135141
X-APPLE-STRUCTURED-LOCATION;VALUE=URI;X-ADDRESS=Private Home – Highland Park 1100 Winterton Street Pittsburgh Pennsylvania 15206;X-APPLE-RADIUS=500;X-TITLE=1100 Winterton Street:geo:-79.9135141,40.4730436
END:VEVENT
END:VCALENDAR