BEGIN:VCALENDAR
VERSION:2.0
PRODID:-//Pittsburgh - ECPv6.15.20//NONSGML v1.0//EN
CALSCALE:GREGORIAN
METHOD:PUBLISH
X-WR-CALNAME:Pittsburgh
X-ORIGINAL-URL:https://pittsburgh.cisvusa.org
X-WR-CALDESC:Events for Pittsburgh
REFRESH-INTERVAL;VALUE=DURATION:PT1H
X-Robots-Tag:noindex
X-PUBLISHED-TTL:PT1H
BEGIN:VTIMEZONE
TZID:America/New_York
BEGIN:DAYLIGHT
TZOFFSETFROM:-0500
TZOFFSETTO:-0400
TZNAME:EDT
DTSTART:20220313T070000
END:DAYLIGHT
BEGIN:STANDARD
TZOFFSETFROM:-0400
TZOFFSETTO:-0500
TZNAME:EST
DTSTART:20221106T060000
END:STANDARD
BEGIN:DAYLIGHT
TZOFFSETFROM:-0500
TZOFFSETTO:-0400
TZNAME:EDT
DTSTART:20230312T070000
END:DAYLIGHT
BEGIN:STANDARD
TZOFFSETFROM:-0400
TZOFFSETTO:-0500
TZNAME:EST
DTSTART:20231105T060000
END:STANDARD
BEGIN:DAYLIGHT
TZOFFSETFROM:-0500
TZOFFSETTO:-0400
TZNAME:EDT
DTSTART:20240310T070000
END:DAYLIGHT
BEGIN:STANDARD
TZOFFSETFROM:-0400
TZOFFSETTO:-0500
TZNAME:EST
DTSTART:20241103T060000
END:STANDARD
END:VTIMEZONE
BEGIN:VEVENT
DTSTART;TZID=America/New_York:20230109T180000
DTEND;TZID=America/New_York:20230109T200000
DTSTAMP:20260419T205528
CREATED:20221201T222447Z
LAST-MODIFIED:20230104T213515Z
UID:10000012-1673287200-1673294400@pittsburgh.cisvusa.org
SUMMARY:Meet and Greet - Moon Library
DESCRIPTION:On Monday\, January 9\, please join us for a (free) Meet and Greet at the Moon Township Public Library from 6:00 – 8:00 pm. Come for pizza and drinks and meet our members who have participated in our international programs. \nLearn more about our 2023 international programs. (The application period opens December 4.) \nCISV\, founded in 1950\, offers international programs for youth ages 11 – 17 that educate and inspire action for a more just and peaceful world\, foster cross-cultural friendships and teach leadership skills that last a lifetime. \nThe CISV Pittsburgh chapter was founded in 1989 and has provided more than 900 students the opportunity to participate in CISV programs worldwide. Our chapter is one of 26 chapters across the country that make up CISV USA\, which is a member of CISV International with 69 countries and 200 chapters across the globe. \nWe’d love to tell you all you need to know to get involved.
URL:https://pittsburgh.cisvusa.org/event/meet-and-greet-moon-library/
LOCATION:Moon Township Public Library\, 1700 Beaver Grade Rd #100\, Coraopolis\, PA\, 15108\, United States
CATEGORIES:Meet and Greet
ATTACH;FMTTYPE=image/jpeg:https://pittsburgh.cisvusa.org/wp-content/uploads/sites/20/2019/10/img_7655-2-e1572181105528.jpg
ORGANIZER;CN="CISV Pittsburgh":MAILTO:pittsburgh@cisvusa.org
END:VEVENT
END:VCALENDAR