BEGIN:VCALENDAR
VERSION:2.0
PRODID:-//Pittsburgh - ECPv6.15.20//NONSGML v1.0//EN
CALSCALE:GREGORIAN
METHOD:PUBLISH
X-WR-CALNAME:Pittsburgh
X-ORIGINAL-URL:https://pittsburgh.cisvusa.org
X-WR-CALDESC:Events for Pittsburgh
REFRESH-INTERVAL;VALUE=DURATION:PT1H
X-Robots-Tag:noindex
X-PUBLISHED-TTL:PT1H
BEGIN:VTIMEZONE
TZID:America/New_York
BEGIN:DAYLIGHT
TZOFFSETFROM:-0500
TZOFFSETTO:-0400
TZNAME:EDT
DTSTART:20190310T070000
END:DAYLIGHT
BEGIN:STANDARD
TZOFFSETFROM:-0400
TZOFFSETTO:-0500
TZNAME:EST
DTSTART:20191103T060000
END:STANDARD
BEGIN:DAYLIGHT
TZOFFSETFROM:-0500
TZOFFSETTO:-0400
TZNAME:EDT
DTSTART:20200308T070000
END:DAYLIGHT
BEGIN:STANDARD
TZOFFSETFROM:-0400
TZOFFSETTO:-0500
TZNAME:EST
DTSTART:20201101T060000
END:STANDARD
BEGIN:DAYLIGHT
TZOFFSETFROM:-0500
TZOFFSETTO:-0400
TZNAME:EDT
DTSTART:20210314T070000
END:DAYLIGHT
BEGIN:STANDARD
TZOFFSETFROM:-0400
TZOFFSETTO:-0500
TZNAME:EST
DTSTART:20211107T060000
END:STANDARD
BEGIN:DAYLIGHT
TZOFFSETFROM:-0500
TZOFFSETTO:-0400
TZNAME:EDT
DTSTART:20220313T070000
END:DAYLIGHT
BEGIN:STANDARD
TZOFFSETFROM:-0400
TZOFFSETTO:-0500
TZNAME:EST
DTSTART:20221106T060000
END:STANDARD
BEGIN:DAYLIGHT
TZOFFSETFROM:-0500
TZOFFSETTO:-0400
TZNAME:EDT
DTSTART:20230312T070000
END:DAYLIGHT
BEGIN:STANDARD
TZOFFSETFROM:-0400
TZOFFSETTO:-0500
TZNAME:EST
DTSTART:20231105T060000
END:STANDARD
END:VTIMEZONE
BEGIN:VEVENT
DTSTART;TZID=America/New_York:20220918T150000
DTEND;TZID=America/New_York:20220918T170000
DTSTAMP:20260419T205529
CREATED:20220911T195759Z
LAST-MODIFIED:20220918T173135Z
UID:10000003-1663513200-1663520400@pittsburgh.cisvusa.org
SUMMARY:Welcome Back Picnic
DESCRIPTION:Join us for our annual Welcome Back Picnic. \nWe’ll debrief our delegates who traveled this summer. \nMeet up with old friends\, and make new friends. Learn what this year has in store for the JB and CISV. \nPizza will be provided. Please bring sides\, dessert and drinks. \nPLEASE REGISTER ABOVE. \nSIGN UP TO BRING A DISH. \nThe Mellon Park Shelter is near the playground on 5th Avenue
URL:https://pittsburgh.cisvusa.org/event/welcome-back-picnic-3/
LOCATION:Mellon Park Shelter\, 6602 Fifth Avenue\, Pittsburgh\, PA\, 15206\, United States
ATTACH;FMTTYPE=image/jpeg:https://pittsburgh.cisvusa.org/wp-content/uploads/sites/20/2019/10/20190628_153252-1-e1648765785859.jpg
END:VEVENT
BEGIN:VEVENT
DTSTART;TZID=America/New_York:20201011T150000
DTEND;TZID=America/New_York:20201011T163000
DTSTAMP:20260419T205529
CREATED:20201005T130935Z
LAST-MODIFIED:20201005T130935Z
UID:10000060-1602428400-1602433800@pittsburgh.cisvusa.org
SUMMARY:Junior Branch Event: Card Writing for Seniors in Nursing Homes\, Kids in Hospitals
DESCRIPTION:The Junior Branch will be decorating and writing cards to send to senior citizens living in nursing homes and kids in hospitals without many visitors due to COVID-19. \nIt will be great to see everyone! We’ll be outside\, socially distanced and wearing masks. \nExact location in Mellon Park to be announced. \nSIGN UP HERE
URL:https://pittsburgh.cisvusa.org/event/junior-branch-event-card-writing-for-seniors-in-nursing-homes-kids-in-hospitals/
LOCATION:Mellon Park Shelter\, 6602 Fifth Avenue\, Pittsburgh\, PA\, 15206\, United States
ATTACH;FMTTYPE=image/jpeg:https://pittsburgh.cisvusa.org/wp-content/uploads/sites/20/2020/03/Spring_Flowers_BG-3-1600x500-1.jpg
ORGANIZER;CN="CISV Pittsburgh":MAILTO:pittsburgh@cisvusa.org
END:VEVENT
END:VCALENDAR