BEGIN:VCALENDAR
VERSION:2.0
PRODID:-//Pittsburgh - ECPv6.15.20//NONSGML v1.0//EN
CALSCALE:GREGORIAN
METHOD:PUBLISH
X-WR-CALNAME:Pittsburgh
X-ORIGINAL-URL:https://pittsburgh.cisvusa.org
X-WR-CALDESC:Events for Pittsburgh
REFRESH-INTERVAL;VALUE=DURATION:PT1H
X-Robots-Tag:noindex
X-PUBLISHED-TTL:PT1H
BEGIN:VTIMEZONE
TZID:America/New_York
BEGIN:DAYLIGHT
TZOFFSETFROM:-0500
TZOFFSETTO:-0400
TZNAME:EDT
DTSTART:20190310T070000
END:DAYLIGHT
BEGIN:STANDARD
TZOFFSETFROM:-0400
TZOFFSETTO:-0500
TZNAME:EST
DTSTART:20191103T060000
END:STANDARD
BEGIN:DAYLIGHT
TZOFFSETFROM:-0500
TZOFFSETTO:-0400
TZNAME:EDT
DTSTART:20200308T070000
END:DAYLIGHT
BEGIN:STANDARD
TZOFFSETFROM:-0400
TZOFFSETTO:-0500
TZNAME:EST
DTSTART:20201101T060000
END:STANDARD
BEGIN:DAYLIGHT
TZOFFSETFROM:-0500
TZOFFSETTO:-0400
TZNAME:EDT
DTSTART:20210314T070000
END:DAYLIGHT
BEGIN:STANDARD
TZOFFSETFROM:-0400
TZOFFSETTO:-0500
TZNAME:EST
DTSTART:20211107T060000
END:STANDARD
END:VTIMEZONE
BEGIN:VEVENT
DTSTART;TZID=America/New_York:20201108T150000
DTEND;TZID=America/New_York:20201108T163000
DTSTAMP:20260420T040122
CREATED:20201026T203701Z
LAST-MODIFIED:20201101T141404Z
UID:10000061-1604847600-1604853000@pittsburgh.cisvusa.org
SUMMARY:Junior Branch Sustainability Event (Postponed until 11/8)
DESCRIPTION:November Activity – Postponed until Nov 8.\nWe are starting up our monthly activities for the first Sunday of every month\, if weather allows. Although we won’t be able to have normal chapter meetings\, we still want to be able to get together. It will be a great way to get back into the CISV spirit after not being able to travel this past summer. \nThis month’s activity will be about sustainability\, specifically focused on conserving the resources we use everyday. The activity was planned by two of our amazing JB Board members. \nThe activity will take place in lower Frick Park\, in a field next to the parking lot accessed by Hutchinson Street in Regent Square. \nBring chairs and blankets to sit on. Masks will be required and social distancing will be in place. We hope to see everyone there!!!!! \nDress warmly since it will be chilly on Sunday. \nCheck Back for registration
URL:https://pittsburgh.cisvusa.org/event/junior-branch-sustainability-event/
LOCATION:Frick Park Parking Lot (off of Hutchinson Street)\, Frick Park Parking Lot\, Pittsburgh\, PA\, United States
ATTACH;FMTTYPE=image/jpeg:https://pittsburgh.cisvusa.org/wp-content/uploads/sites/20/2020/10/P1080102-1.jpeg
GEO:40.430534;-79.9004316
X-APPLE-STRUCTURED-LOCATION;VALUE=URI;X-ADDRESS=Frick Park Parking Lot (off of Hutchinson Street) Frick Park Parking Lot Pittsburgh PA United States;X-APPLE-RADIUS=500;X-TITLE=Frick Park Parking Lot:geo:-79.9004316,40.430534
END:VEVENT
END:VCALENDAR