BEGIN:VCALENDAR
VERSION:2.0
PRODID:-//Pittsburgh - ECPv6.15.20//NONSGML v1.0//EN
CALSCALE:GREGORIAN
METHOD:PUBLISH
X-WR-CALNAME:Pittsburgh
X-ORIGINAL-URL:https://pittsburgh.cisvusa.org
X-WR-CALDESC:Events for Pittsburgh
REFRESH-INTERVAL;VALUE=DURATION:PT1H
X-Robots-Tag:noindex
X-PUBLISHED-TTL:PT1H
BEGIN:VTIMEZONE
TZID:America/New_York
BEGIN:DAYLIGHT
TZOFFSETFROM:-0500
TZOFFSETTO:-0400
TZNAME:EDT
DTSTART:20200308T070000
END:DAYLIGHT
BEGIN:STANDARD
TZOFFSETFROM:-0400
TZOFFSETTO:-0500
TZNAME:EST
DTSTART:20201101T060000
END:STANDARD
BEGIN:DAYLIGHT
TZOFFSETFROM:-0500
TZOFFSETTO:-0400
TZNAME:EDT
DTSTART:20210314T070000
END:DAYLIGHT
BEGIN:STANDARD
TZOFFSETFROM:-0400
TZOFFSETTO:-0500
TZNAME:EST
DTSTART:20211107T060000
END:STANDARD
BEGIN:DAYLIGHT
TZOFFSETFROM:-0500
TZOFFSETTO:-0400
TZNAME:EDT
DTSTART:20220313T070000
END:DAYLIGHT
BEGIN:STANDARD
TZOFFSETFROM:-0400
TZOFFSETTO:-0500
TZNAME:EST
DTSTART:20221106T060000
END:STANDARD
END:VTIMEZONE
BEGIN:VEVENT
DTSTART;TZID=America/New_York:20210418T150000
DTEND;TZID=America/New_York:20210418T173000
DTSTAMP:20260419T205855
CREATED:20210413T160957Z
LAST-MODIFIED:20210413T161318Z
UID:10000064-1618758000-1618767000@pittsburgh.cisvusa.org
SUMMARY:Junior Branch Litter Clean-Up and Picnic
DESCRIPTION:Meet at Community Day School playground in Squirrel Hill \nWe miss seeing all of you! Join us for this socially distanced outdoor event. \nBring a lunch and wear a mask! \nSchool address: 6424 Forward Avenue Pittsburgh\, Pennsylvania 15217 \nThe playground is behind the school on Beechwood Blvd.
URL:https://pittsburgh.cisvusa.org/event/junior-branch-litter-clean-up-and-picnic/
LOCATION:Community Day School Playground (behind school on Beechwood Blvd)\, 6424 Forward Avenue\, Pittsburgh\, Pennsylvania\, 15217
ATTACH;FMTTYPE=image/jpeg:https://pittsburgh.cisvusa.org/wp-content/uploads/sites/20/2019/09/unnamed-4-e1646253729226.jpg
GEO:40.4274244;-79.917732
X-APPLE-STRUCTURED-LOCATION;VALUE=URI;X-ADDRESS=Community Day School Playground (behind school on Beechwood Blvd) 6424 Forward Avenue Pittsburgh Pennsylvania 15217;X-APPLE-RADIUS=500;X-TITLE=6424 Forward Avenue:geo:-79.917732,40.4274244
END:VEVENT
END:VCALENDAR