BEGIN:VCALENDAR
VERSION:2.0
PRODID:-//Pittsburgh - ECPv6.15.20//NONSGML v1.0//EN
CALSCALE:GREGORIAN
METHOD:PUBLISH
X-WR-CALNAME:Pittsburgh
X-ORIGINAL-URL:https://pittsburgh.cisvusa.org
X-WR-CALDESC:Events for Pittsburgh
REFRESH-INTERVAL;VALUE=DURATION:PT1H
X-Robots-Tag:noindex
X-PUBLISHED-TTL:PT1H
BEGIN:VTIMEZONE
TZID:America/New_York
BEGIN:DAYLIGHT
TZOFFSETFROM:-0500
TZOFFSETTO:-0400
TZNAME:EDT
DTSTART:20220313T070000
END:DAYLIGHT
BEGIN:STANDARD
TZOFFSETFROM:-0400
TZOFFSETTO:-0500
TZNAME:EST
DTSTART:20221106T060000
END:STANDARD
BEGIN:DAYLIGHT
TZOFFSETFROM:-0500
TZOFFSETTO:-0400
TZNAME:EDT
DTSTART:20230312T070000
END:DAYLIGHT
BEGIN:STANDARD
TZOFFSETFROM:-0400
TZOFFSETTO:-0500
TZNAME:EST
DTSTART:20231105T060000
END:STANDARD
BEGIN:DAYLIGHT
TZOFFSETFROM:-0500
TZOFFSETTO:-0400
TZNAME:EDT
DTSTART:20240310T070000
END:DAYLIGHT
BEGIN:STANDARD
TZOFFSETFROM:-0400
TZOFFSETTO:-0500
TZNAME:EST
DTSTART:20241103T060000
END:STANDARD
END:VTIMEZONE
BEGIN:VEVENT
DTSTART;TZID=America/New_York:20230924T160000
DTEND;TZID=America/New_York:20230924T173000
DTSTAMP:20260421T162402
CREATED:20230913T220212Z
LAST-MODIFIED:20230923T170853Z
UID:10000079-1695571200-1695576600@pittsburgh.cisvusa.org
SUMMARY:CISV Recruitment Meeting
DESCRIPTION:Join us to plan to get the word out about CISV Pittsburgh! \nAll members\, past and present\, and 2023 delegates and their families are encouraged to attend this meeting to plan for events and activities to recruit new families to the chapter. We want to spread the word about opportunities to participate in CISV programs. \nWe are planning a Zoom meeting for Sunday\, September 24 from 4:00-5:30. Please register and we’ll email you the link. \nhttps://us06web.zoom.us/j/6284805850?pwd=dUVteGZiZnBRRG1uZXNWRGNqOG9jQT09 \nWe are also looking for youth to join us the same night with our Junior Branch president to see what kinds of activities will interest them this year. \nThanks again – your volunteering will help the chapter to grow.
URL:https://pittsburgh.cisvusa.org/event/cisv-recruitment-meeting/
LOCATION:PA
ATTACH;FMTTYPE=image/jpeg:https://pittsburgh.cisvusa.org/wp-content/uploads/sites/20/2023/09/IMG_7876-scaled-e1694643477315.jpg
ORGANIZER;CN="CISV Pittsburgh":MAILTO:pittsburgh@cisvusa.org
END:VEVENT
END:VCALENDAR