BEGIN:VCALENDAR
VERSION:2.0
PRODID:-//Pittsburgh - ECPv6.15.20//NONSGML v1.0//EN
CALSCALE:GREGORIAN
METHOD:PUBLISH
X-WR-CALNAME:Pittsburgh
X-ORIGINAL-URL:https://pittsburgh.cisvusa.org
X-WR-CALDESC:Events for Pittsburgh
REFRESH-INTERVAL;VALUE=DURATION:PT1H
X-Robots-Tag:noindex
X-PUBLISHED-TTL:PT1H
BEGIN:VTIMEZONE
TZID:America/New_York
BEGIN:DAYLIGHT
TZOFFSETFROM:-0500
TZOFFSETTO:-0400
TZNAME:EDT
DTSTART:20240310T070000
END:DAYLIGHT
BEGIN:STANDARD
TZOFFSETFROM:-0400
TZOFFSETTO:-0500
TZNAME:EST
DTSTART:20241103T060000
END:STANDARD
BEGIN:DAYLIGHT
TZOFFSETFROM:-0500
TZOFFSETTO:-0400
TZNAME:EDT
DTSTART:20250309T070000
END:DAYLIGHT
BEGIN:STANDARD
TZOFFSETFROM:-0400
TZOFFSETTO:-0500
TZNAME:EST
DTSTART:20251102T060000
END:STANDARD
BEGIN:DAYLIGHT
TZOFFSETFROM:-0500
TZOFFSETTO:-0400
TZNAME:EDT
DTSTART:20260308T070000
END:DAYLIGHT
BEGIN:STANDARD
TZOFFSETFROM:-0400
TZOFFSETTO:-0500
TZNAME:EST
DTSTART:20261101T060000
END:STANDARD
END:VTIMEZONE
BEGIN:VEVENT
DTSTART;TZID=America/New_York:20250114T190000
DTEND;TZID=America/New_York:20250114T200000
DTSTAMP:20260419T215607
CREATED:20241221T155845Z
LAST-MODIFIED:20241221T155845Z
UID:10000097-1736881200-1736884800@pittsburgh.cisvusa.org
SUMMARY:Virtual Meet & Greet
DESCRIPTION:Meet our members who have participated in our life-changing international programs and learn how to apply for summer 2025 programs. \nCISV\, founded in 1950\, offers international programs for youth ages 11 – 17 that educate and inspire action for a more just and peaceful world\, foster cross-cultural friendships and teach leadership skills that last a lifetime. \nThe CISV Pittsburgh chapter was founded in 1989 and has provided more than 900 youth the opportunity to participate in CISV programs worldwide. Our chapter is one of 25 chapters across the country that make up CISV USA\, which is a member of CISV International with 69 countries and 200 chapters across the globe. \nWe’d love to tell you all you need to know to get involved. \nPLEASE REGISTER TO GET THE ZOOM LINK.
URL:https://pittsburgh.cisvusa.org/event/virtual-meet-greet-4/
LOCATION:Pennsylvania
ATTACH;FMTTYPE=image/jpeg:https://pittsburgh.cisvusa.org/wp-content/uploads/sites/20/2019/10/IMG_0790-e1572105039970.jpg
ORGANIZER;CN="CISV Pittsburgh":MAILTO:pittsburgh@cisvusa.org
END:VEVENT
BEGIN:VEVENT
DTSTART;TZID=America/New_York:20250202T123000
DTEND;TZID=America/New_York:20250202T153000
DTSTAMP:20260419T215607
CREATED:20241103T220038Z
LAST-MODIFIED:20250131T055632Z
UID:10000023-1738499400-1738510200@pittsburgh.cisvusa.org
SUMMARY:CISV Chapter Gathering
DESCRIPTION:Applicants who have applied to participate in a CISV Pittsburgh international program this summer will be interviewed during this event\, while Junior Counselor applicants run activities for the attendees. \nFamilies interested in learning about CISV are also encouraged to attend. \n12:30 – 3:30 pm \nAttack Theater: 212 45th Street\, Pittsburgh\, PA 15201 \nPlease register. \n  \n 
URL:https://pittsburgh.cisvusa.org/event/interview-event-for-cisv-summer-programs/
LOCATION:Attack Theater\, 212 45th Street\, Pittsburgh\, Pennsylvania\, 15201
ATTACH;FMTTYPE=image/jpeg:https://pittsburgh.cisvusa.org/wp-content/uploads/sites/20/2022/03/IMG_6188-e1537283833838-scaled-1-e1648766352555.jpeg
ORGANIZER;CN="CISV Pittsburgh":MAILTO:pittsburgh@cisvusa.org
END:VEVENT
BEGIN:VEVENT
DTSTART;TZID=America/New_York:20250209T133000
DTEND;TZID=America/New_York:20250209T150000
DTSTAMP:20260419T215607
CREATED:20250201T171552Z
LAST-MODIFIED:20250208T194215Z
UID:10000098-1739107800-1739113200@pittsburgh.cisvusa.org
SUMMARY:Junior Branch Ice Skating Event - CANCELED
DESCRIPTION:This event is canceled! \nSunday\, February 9 from 1:30 pm to 3:00 pm. \nJoin the Junior Branch at the Schenley Park Ice Skating Rink for a fun day of skating and getting to know your fellow JBers! \nThe cost is $3 for youth admission and $3 for skate rental. Parents can join too! \nTickets can be purchased in advance online or in person with a credit card or pay app. Snacks and drinks are available for purchase. \nPlease register so we know you’re coming!
URL:https://pittsburgh.cisvusa.org/event/junior-branch-ice-skating-event/
LOCATION:Schenley Park Ice Rink\, 10341 Overlook Drive\, Pittsburgh\, Pennsylvania\, 15213
ATTACH;FMTTYPE=image/jpeg:https://pittsburgh.cisvusa.org/wp-content/uploads/sites/20/2025/02/IMG_0212-scaled.jpeg
ORGANIZER;CN="CISV Pittsburgh":MAILTO:pittsburgh@cisvusa.org
GEO:40.4312119;-79.9437564
X-APPLE-STRUCTURED-LOCATION;VALUE=URI;X-ADDRESS=Schenley Park Ice Rink 10341 Overlook Drive Pittsburgh Pennsylvania 15213;X-APPLE-RADIUS=500;X-TITLE=10341 Overlook Drive:geo:-79.9437564,40.4312119
END:VEVENT
BEGIN:VEVENT
DTSTART;TZID=America/New_York:20250309T120000
DTEND;TZID=America/New_York:20250309T140000
DTSTAMP:20260419T215607
CREATED:20250303T010834Z
LAST-MODIFIED:20250303T175534Z
UID:10000100-1741521600-1741528800@pittsburgh.cisvusa.org
SUMMARY:CISV Chapter Gathering
DESCRIPTION:Join us for a Sunday afternoon of CISV activities led by the Junior Branch (JB). JB members will be making dog toys out of old t-shirts and will donate them to Humane Animal Rescue of Pittsburgh. Please bring old t-shirts. It’s a great way to get to know your fellow JBers and give back to our furry community! \nParents are encouraged to attend to learn more about CISV and get their questions answered. \nPlease register so we know you’re coming. \nWe look forward to seeing you there!
URL:https://pittsburgh.cisvusa.org/event/cisv-chapter-gathering-2/
LOCATION:Carnegie Library – Allegheny Meeting Room\, 1230 Federal Street\, Pittsburgh\, PA\, 15212\, United States
ATTACH;FMTTYPE=image/jpeg:https://pittsburgh.cisvusa.org/wp-content/uploads/sites/20/2018/09/2018-07-18-14_14_06.752-scaled.jpg
ORGANIZER;CN="CISV Pittsburgh":MAILTO:pittsburgh@cisvusa.org
END:VEVENT
BEGIN:VEVENT
DTSTART;TZID=America/New_York:20250325T180000
DTEND;TZID=America/New_York:20250325T200000
DTSTAMP:20260419T215607
CREATED:20250303T152849Z
LAST-MODIFIED:20250308T190657Z
UID:10000103-1742925600-1742932800@pittsburgh.cisvusa.org
SUMMARY:CISV Volunteer Social
DESCRIPTION:Hang out with our CISV chapter to toast our volunteers\, look back at our accomplishments and look forward to supporting our chapter. \nPlease stop by the Dancing Gnome Brewery at 1025 Main Street in Sharpsburg between 6pm and 8pm on Tuesday\, March 25\, for light bites and drinks for purchase. \nVolunteers make up 100% of our Chapter and each role is invaluable to the success of creating a more just and peaceful world. \nEveryone is welcome to this event. Please register so we know you’re coming! \n 
URL:https://pittsburgh.cisvusa.org/event/cisv-volunteer-social/
LOCATION:Dancing Gnome Brewery\, 1025 Main Street\, Pittsburgh\, PA\, 15215\, United States
ATTACH;FMTTYPE=image/jpeg:https://pittsburgh.cisvusa.org/wp-content/uploads/sites/20/2018/02/slide-1.jpg
ORGANIZER;CN="CISV Pittsburgh":MAILTO:pittsburgh@cisvusa.org
END:VEVENT
BEGIN:VEVENT
DTSTART;TZID=America/New_York:20250406T140000
DTEND;TZID=America/New_York:20250406T160000
DTSTAMP:20260419T215607
CREATED:20250310T032555Z
LAST-MODIFIED:20250326T023713Z
UID:10000102-1743948000-1743955200@pittsburgh.cisvusa.org
SUMMARY:CISV Chapter Gathering
DESCRIPTION:Join us for a Sunday afternoon to volunteer with Pittsburgh Parks Conservancy in the Spring Hill neighborhood garden. Tasks will include weeding the garden at the intersection of Homer and Damas St\, litter picking throughout the garden and planting. \nParents and family members are welcomed to attend and volunteer at the event.  \nPlease register so we know you’re coming. \nWe look forward to seeing you there!
URL:https://pittsburgh.cisvusa.org/event/cisv-chapter-gathering-3/
LOCATION:Spring Hill neighborhood garden\, 1814 Homer Street\, Pittsburgh\, PA\, 15212\, United States
ATTACH;FMTTYPE=image/jpeg:https://pittsburgh.cisvusa.org/wp-content/uploads/sites/20/2018/09/2018-07-18-14_14_06.752-scaled.jpg
ORGANIZER;CN="CISV Pittsburgh":MAILTO:pittsburgh@cisvusa.org
END:VEVENT
BEGIN:VEVENT
DTSTART;TZID=America/New_York:20250425T183000
DTEND;TZID=America/New_York:20250427T110000
DTSTAMP:20260419T215607
CREATED:20250201T174211Z
LAST-MODIFIED:20250317T153202Z
UID:10000099-1745605800-1745751600@pittsburgh.cisvusa.org
SUMMARY:Regional Mini-Camp!
DESCRIPTION:Regional Mini-Camp\nApril 25 – 27\, 2025\nJoin the Mid-Atlantic Region for our most anticipated event of the year! Regional mini-camp is a chance to experience a CISV camp in a weekend with chapters from across the Mid-Atlantic – including Pittsburgh – and New England chapters. \nThis year\, it will be hosted by the Brandywine Valley chapter outside of Philadelphia. (About a 4-hour drive) \nREGISTER HERE\nRegistration Fee:  \n\n$199.  The deadline to register and complete payment at this price is April 10th.  This fee covers 2 nights of lodging\, 4 meals (Saturday breakfast through Sunday breakfast)\, and a camp t-shirt!!\nThe registration fee from April 11th through April 21st is $215.  We cannot guarantee a t-shirt for registrations made during this time.\n\nSchedule: \n\nCheck-in is on Friday\, April 25th\, from 6:30 to 7:15 pm.\nPick-up is on Sunday at 11:00 am. PLEASE BE PROMPT.\n\nTransportation: \n\nIf we have enough interest\, CISV Pittsburgh will rent a van to transport kids and chaperones (cost split among families)\nInform the Pittsburgh chapter that you registered so we can arrange transportation if there are enough participants: Pittsburgh@cisvusa.org\n\nChaperones  \n\nChaperones attend for FREE! and are encouraged to come and watch their child learn about CISV.\nChaperones also may need to drive the minivan if we rent one.\nBackground and driver’s license checks will be needed.\nClick here for the chaperone registration link.\n\nJB scholarship application can be found here to cover up to 50% of the registration cost.
URL:https://pittsburgh.cisvusa.org/event/regional-mini-camp-save-the-date/
LOCATION:Pennsylvania
ATTACH;FMTTYPE=image/jpeg:https://pittsburgh.cisvusa.org/wp-content/uploads/sites/20/2024/03/https-cdn.evbuc_.com-images-621084439-79230807329-1-original.20231016-030216.jpeg
END:VEVENT
BEGIN:VEVENT
DTSTART;TZID=America/New_York:20250518T130000
DTEND;TZID=America/New_York:20250518T150000
DTSTAMP:20260419T215607
CREATED:20250430T185620Z
LAST-MODIFIED:20250430T194207Z
UID:10000101-1747573200-1747580400@pittsburgh.cisvusa.org
SUMMARY:CISV Chapter Gathering
DESCRIPTION:Join us for our chapter meeting with Kiler Wilson\, a therapist with the Village Center for Holistic Therapy. She’ll talk about conflict resolution\, one of the pillars of CISV\, and run an activity for the Junior Branch. The discussion will help understand how conflicts can arise and what can be done to help bring about a peaceful resolution. Parents are encouraged to attend. \nThe JB will also have its annual board elections. The minimum age is 13 when running for the position\, except where noted. \n\n\nJr. Local Junior Representative (JLJR) aka Vice President (min. age is 14 when running)\nSecretary\nTreasurer\nJB Historian\nNational Service Project leader\n\nJoining the JB board is a great way to bolster local involvement\, add experience to your resume (and college application)\, and build leadership skills. Anyone interested in running should let JB Advisor Alexis Takoushian (alexistakoushian@gmail.com) know before the May 18 meeting.\n\nMore details about each board position can be found here.\n\nPlease register so we know you’re coming.\n\nWe look forward to seeing you there!
URL:https://pittsburgh.cisvusa.org/event/cisv-chapter-gathering-4/
LOCATION:Carnegie Library – Allegheny Meeting Room\, 1230 Federal Street\, Pittsburgh\, PA\, 15212\, United States
ATTACH;FMTTYPE=image/jpeg:https://pittsburgh.cisvusa.org/wp-content/uploads/sites/20/2018/09/2018-07-18-14_14_06.752-scaled.jpg
ORGANIZER;CN="CISV Pittsburgh":MAILTO:pittsburgh@cisvusa.org
END:VEVENT
BEGIN:VEVENT
DTSTART;TZID=America/New_York:20250823T120000
DTEND;TZID=America/New_York:20250823T150000
DTSTAMP:20260419T215607
CREATED:20250430T164320Z
LAST-MODIFIED:20250430T203554Z
UID:10000078-1755950400-1755961200@pittsburgh.cisvusa.org
SUMMARY:Welcome Back Picnic
DESCRIPTION:Join us for our annual Welcome Back potluck picnic on Saturday\, August 23\, 2025! \nHelp say “Welcome Back” to our delegates\, meet up with chapter friends\, and learn what the upcoming year has in store. \nWe will debrief both the 2025 delegates and their families. The event is open to all members. \nThe picnic will be at the home of Deb Dubina. (register to get the address) \nThe chapter will provide pizza. \nPlease bring a side dish\, dessert or beverage. \n 
URL:https://pittsburgh.cisvusa.org/event/welcome-back-picnic-4/
LOCATION:Private Home (please register for the address)\, Pittsburgh\, Pennsylvania
ATTACH;FMTTYPE=image/jpeg:https://pittsburgh.cisvusa.org/wp-content/uploads/sites/20/2019/10/IMG_3219.HEIC_-e1570025153459.jpg
ORGANIZER;CN="CISV Pittsburgh":MAILTO:pittsburgh@cisvusa.org
GEO:40.4421563;-79.9270093
END:VEVENT
BEGIN:VEVENT
DTSTART;TZID=America/New_York:20250920T103000
DTEND;TZID=America/New_York:20250920T150000
DTSTAMP:20260419T215607
CREATED:20250824T033929Z
LAST-MODIFIED:20250824T034737Z
UID:10000106-1758364200-1758380400@pittsburgh.cisvusa.org
SUMMARY:Chapter Retreat
DESCRIPTION:Join us for our annual Chapter Retreat to brainstorm our chapter goals for the year\, work out a strategic plan and build community.  Our retreat is for every adult and kid interested in contributing to our chapter remaining strong\, regardless of whether you have an assigned role in the chapter or not\, regardless of how experienced you are with CISV. \nWe will begin our retreat with our guest speaker Dr. Emiola Oriola Jr. He has centered his personal\, professional and academic career& journey around building bridges amongst division\, connecting perspectives across difference\, and reimagining relationships within community\, all aimed at creating sustainable\, inclusive and tangible unity within diversity wherever he goes. \nPlease plan on attending the entire day\, or a portion of the day. Lunch will be provided.
URL:https://pittsburgh.cisvusa.org/event/chapter-retreat/
LOCATION:CLP HomewoodLibrary\, 7101 Hamilton Avenue\, Pittsburgh\, PA\, 15208\, United States
ATTACH;FMTTYPE=image/jpeg:https://pittsburgh.cisvusa.org/wp-content/uploads/sites/20/2025/08/ideas.jpg
END:VEVENT
BEGIN:VEVENT
DTSTART;TZID=America/New_York:20250921T153000
DTEND;TZID=America/New_York:20250921T173000
DTSTAMP:20260419T215607
CREATED:20250725T033136Z
LAST-MODIFIED:20250725T034818Z
UID:10000105-1758468600-1758475800@pittsburgh.cisvusa.org
SUMMARY:Peace One Day
DESCRIPTION:September 21 is International Day of Peace! Join CISV Pittsburgh for peace education activities that empower youth (ages 10–17) to build a more just\, inclusive\, and sustainable world. Free and open to the community. \n 
URL:https://pittsburgh.cisvusa.org/event/peace-one-day/
LOCATION:BGC Activity Center\, 113 N Pacific Ave\, Pittsburgh\, PA\, 15224\, United States
ATTACH;FMTTYPE=image/jpeg:https://pittsburgh.cisvusa.org/wp-content/uploads/sites/20/2025/07/Picture2.jpg
ORGANIZER;CN="CISV Pittsburgh":MAILTO:pittsburgh@cisvusa.org
END:VEVENT
BEGIN:VEVENT
DTSTART;TZID=America/New_York:20251019T130000
DTEND;TZID=America/New_York:20251019T150000
DTSTAMP:20260419T215607
CREATED:20250825T120513Z
LAST-MODIFIED:20251008T143922Z
UID:10000107-1760878800-1760886000@pittsburgh.cisvusa.org
SUMMARY:Peace & Pumpkin Painting Activity
DESCRIPTION:Join CISV Pittsburgh Junior Branch for this fun and informal youth-led event! Get into the Halloween spirit by painting mini pumpkins! Supplies provided\, but you are welcome to BYOP (Bring Your Own Pumpkin). \nSunday\, October 19\, from 1:00 – 3:00 pm at the Allegheny Branch of the Carnegie Library of Pittsburgh on the North Side. \nWe are looking forward to seeing you there! Come reconnect with your CISV friends. Bring a friend too! Introduce new families to CISV.
URL:https://pittsburgh.cisvusa.org/event/chapter-meeting-continuing-the-conversation-on-peace-education-actionable-steps/
LOCATION:Carnegie Library – Allegheny\, 1230 Federal Street\, Pittsburgh\, Pittsburgh\, 15212\, United States
ATTACH;FMTTYPE=image/jpeg:https://pittsburgh.cisvusa.org/wp-content/uploads/sites/20/2025/08/Belong-scaled.jpg
ORGANIZER;CN="CISV Pittsburgh":MAILTO:pittsburgh@cisvusa.org
END:VEVENT
END:VCALENDAR